{
 "currentVersion": 11.3,
 "serviceDescription": "Extract_COL_1",
 "name": "Extract_COL_1",
 "description": "",
 "extent": {
  "xmin": -81.775000001,
  "ymin": -4.241665956999999,
  "xmax": -66.8000006,
  "ymax": 13.49999999999999,
  "spatialReference": {
   "wkt2": "GEOGCRS[\"GCS_unknown\",DATUM[\"D_Unknown_based_on_WGS84_ellipsoid\",ELLIPSOID[\"WGS_1984\",6378137.0,298.257223563,LENGTHUNIT[\"Meter\",1.0]]],PRIMEM[\"Greenwich\",0.0,ANGLEUNIT[\"Degree\",0.0174532925199433]],CS[ellipsoidal,2],AXIS[\"Longitude (lon)\",east,ORDER[1]],AXIS[\"Latitude (lat)\",north,ORDER[2]],ANGLEUNIT[\"Degree\",0.0174532925199433]]",
   "wkt": "GEOGCS[\"GCS_unknown\",DATUM[\"D_Unknown_based_on_WGS84_ellipsoid\",SPHEROID[\"WGS_1984\",6378137.0,298.257223563]],PRIMEM[\"Greenwich\",0.0],UNIT[\"Degree\",0.0174532925199433]]"
  }
 },
 "initialExtent": {
  "xmin": -81.775000001,
  "ymin": -4.241665956999999,
  "xmax": -66.8000006,
  "ymax": 13.49999999999999,
  "spatialReference": {
   "wkt2": "GEOGCRS[\"GCS_unknown\",DATUM[\"D_Unknown_based_on_WGS84_ellipsoid\",ELLIPSOID[\"WGS_1984\",6378137.0,298.257223563,LENGTHUNIT[\"Meter\",1.0]]],PRIMEM[\"Greenwich\",0.0,ANGLEUNIT[\"Degree\",0.0174532925199433]],CS[ellipsoidal,2],AXIS[\"Longitude (lon)\",east,ORDER[1]],AXIS[\"Latitude (lat)\",north,ORDER[2]],ANGLEUNIT[\"Degree\",0.0174532925199433]]",
   "wkt": "GEOGCS[\"GCS_unknown\",DATUM[\"D_Unknown_based_on_WGS84_ellipsoid\",SPHEROID[\"WGS_1984\",6378137.0,298.257223563]],PRIMEM[\"Greenwich\",0.0],UNIT[\"Degree\",0.0174532925199433]]"
  }
 },
 "fullExtent": {
  "xmin": -81.775000001,
  "ymin": -4.241665956999999,
  "xmax": -66.8000006,
  "ymax": 13.49999999999999,
  "spatialReference": {
   "wkt2": "GEOGCRS[\"GCS_unknown\",DATUM[\"D_Unknown_based_on_WGS84_ellipsoid\",ELLIPSOID[\"WGS_1984\",6378137.0,298.257223563,LENGTHUNIT[\"Meter\",1.0]]],PRIMEM[\"Greenwich\",0.0,ANGLEUNIT[\"Degree\",0.0174532925199433]],CS[ellipsoidal,2],AXIS[\"Longitude (lon)\",east,ORDER[1]],AXIS[\"Latitude (lat)\",north,ORDER[2]],ANGLEUNIT[\"Degree\",0.0174532925199433]]",
   "wkt": "GEOGCS[\"GCS_unknown\",DATUM[\"D_Unknown_based_on_WGS84_ellipsoid\",SPHEROID[\"WGS_1984\",6378137.0,298.257223563]],PRIMEM[\"Greenwich\",0.0],UNIT[\"Degree\",0.0174532925199433]]"
  }
 },
 "sortableFields": "",
 "bandCount": 1,
 "pixelType": "S16",
 "minValues": [
  -28
 ],
 "maxValues": [
  5453
 ],
 "meanValues": [
  559.6331601874167
 ],
 "stdvValues": [
  824.7432237946344
 ],
 "hasMultidimensions": false,
 "pixelSizeX": 0.008333332999999995,
 "pixelSizeY": 0.008333332999999995,
 "meanPixelSize": 927.6623861707822,
 "datasetFormat": "FGDBR",
 "uncompressedSize": 7651626,
 "blockWidth": 128,
 "blockHeight": 128,
 "compressionType": "LZ77",
 "bandNames": [
  "Band_1"
 ],
 "allowCopy": true,
 "allowAnalysis": true,
 "itemAccess": false,
 "inspectionCapabilities": "",
 "minPixelSize": 0,
 "maxPixelSize": 0,
 "copyrightText": "",
 "serviceDataType": "esriImageServiceDataTypeGeneric",
 "serviceSourceType": "esriImageServiceSourceTypeDataset",
 "objectIdField": "",
 "fields": [],
 "capabilities": "Image,Metadata,Mensuration",
 "defaultMosaicMethod": "Center",
 "allowedMosaicMethods": "",
 "sortField": "",
 "sortValue": null,
 "sortAscending": true,
 "mosaicOperator": "First",
 "defaultCompressionQuality": 75,
 "defaultResamplingMethod": "Bilinear",
 "maxImageHeight": 4100,
 "maxImageWidth": 15000,
 "allowRasterFunction": true,
 "rasterFunctionInfos": [
  {
   "name": "None",
   "description": "",
   "help": ""
  }
 ],
 "rasterTypeInfos": [
  {
   "name": "Raster Dataset",
   "description": "Supports all ArcGIS Raster Datasets",
   "help": ""
  }
 ],
 "mensurationCapabilities": "Basic",
 "hasHistograms": true,
 "hasColormap": false,
 "hasRasterAttributeTable": true,
 "minScale": 0,
 "maxScale": 0,
 "exportTilesAllowed": false,
 "supportsStatistics": false,
 "supportsAdvancedQueries": false,
 "editFieldsInfo": null,
 "ownershipBasedAccessControlForRasters": null,
 "allowComputeTiePoints": false,
 "useStandardizedQueries": true,
 "advancedQueryCapabilities": {
  "useStandardizedQueries": true,
  "supportsStatistics": false,
  "supportsOrderBy": false,
  "supportsDistinct": false,
  "supportsPagination": false
 },
 "spatialReference": {
  "wkt2": "GEOGCRS[\"GCS_unknown\",DATUM[\"D_Unknown_based_on_WGS84_ellipsoid\",ELLIPSOID[\"WGS_1984\",6378137.0,298.257223563,LENGTHUNIT[\"Meter\",1.0]]],PRIMEM[\"Greenwich\",0.0,ANGLEUNIT[\"Degree\",0.0174532925199433]],CS[ellipsoidal,2],AXIS[\"Longitude (lon)\",east,ORDER[1]],AXIS[\"Latitude (lat)\",north,ORDER[2]],ANGLEUNIT[\"Degree\",0.0174532925199433]]",
  "wkt": "GEOGCS[\"GCS_unknown\",DATUM[\"D_Unknown_based_on_WGS84_ellipsoid\",SPHEROID[\"WGS_1984\",6378137.0,298.257223563]],PRIMEM[\"Greenwich\",0.0],UNIT[\"Degree\",0.0174532925199433]]"
 }
}
