View In:
ArcGIS JavaScript
ArcGIS Online Map Viewer
ArcGIS Earth
Service Description: Armero_1985_MagBog_tif
Name: Armero_1985_MagBog_tif
Description:
Single Fused Map Cache: false
Extent:
XMin: 904978.1356
YMin: 1037563.4145489621
XMax: 911981.1808620258
YMax: 1043695.8604
Spatial Reference: 3116
(3116)
LatestVCSWkid(0)
Initial Extent:
XMin: 904978.1356
YMin: 1037563.4145489621
XMax: 911981.1808620258
YMax: 1043695.8604
Spatial Reference: 3116
(3116)
LatestVCSWkid(0)
Full Extent:
XMin: 904978.1356
YMin: 1037563.4145489621
XMax: 911981.1808620258
YMax: 1043695.8604
Spatial Reference: 3116
(3116)
LatestVCSWkid(0)
Pixel Size X: 0.14999989851619908
Pixel Size Y: 0.14999989851620138
Band Count: 1
Pixel Type: U8
RasterFunction Infos: {"rasterFunctionInfos": [{
"name": "None",
"description": "",
"help": ""
}]}
Mensuration Capabilities: Basic
Inspection Capabilities:
Has Histograms: true
Has Colormap: false
Has Multi Dimensions : false
Rendering Rule:
Min Scale: 0
Max Scale: 0
Copyright Text:
Service Data Type: esriImageServiceDataTypeGeneric
Min Values: 0
Max Values: 255
Mean Values: 82.714067936946
Standard Deviation Values: 62.859961975427
Object ID Field:
Fields:
None
Default Mosaic Method: Center
Allowed Mosaic Methods:
SortField:
SortValue: null
Mosaic Operator: First
Default Compression Quality: 75
Default Resampling Method: Bilinear
Max Record Count: null
Max Image Height: 4100
Max Image Width: 15000
Max Download Image Count: null
Max Mosaic Image Count: null
Allow Raster Function: true
Allow Copy: true
Allow Analysis: true
Allow Compute TiePoints: false
Supports Statistics: false
Supports Advanced Queries: false
Use StandardizedQueries: true
Raster Type Infos:
Name: Raster Dataset
Description: Supports all ArcGIS Raster Datasets
Help:
Has Raster Attribute Table: false
Edit Fields Info: null
Ownership Based AccessControl For Rasters: null
Child Resources:
Info
Histograms
Statistics
Key Properties
Legend
Raster Function Infos
Supported Operations:
Export Image
Identify
Measure
Compute Histograms
Compute Statistics Histograms
Get Samples
Compute Class Statistics
Query Boundary
Compute Pixel Location
Compute Angles
Validate
Project