View In:
ArcGIS JavaScript
ArcGIS Online Map Viewer
ArcGIS Earth
Service Description: Imagenes/SeaTemperature2014062829
Name: Imagenes/SeaTemperature2014062829
Description:
Single Fused Map Cache: false
Extent:
XMin: -104.13057961359091
YMin: -17.460697588326475
XMax: -37.61492338441036
YMax: 31.546630859375057
Spatial Reference: 4326
(4326)
LatestVCSWkid(0)
Initial Extent:
XMin: -104.13057961359091
YMin: -17.460697588326475
XMax: -37.61492338441036
YMax: 31.546630859375057
Spatial Reference: 4326
(4326)
LatestVCSWkid(0)
Full Extent:
XMin: -104.13057961359091
YMin: -17.460697588326475
XMax: -37.61492338441036
YMax: 31.546630859375057
Spatial Reference: 4326
(4326)
LatestVCSWkid(0)
Time Info:
Start Time Field: StdTime
End Time Field: StdTime
Time Extent:
[2014/06/28 00:00:00 UTC, 2014/06/29 00:00:00 UTC]
Time Reference:
N/A
Pixel Size X: 0.07994670219853431
Pixel Size Y: 0.07994670219853431
Band Count: 1
Pixel Type: F32
RasterFunction Infos: {"rasterFunctionInfos": [{
"name": "None",
"description": "",
"help": ""
}]}
Mensuration Capabilities: Basic
Inspection Capabilities:
Has Histograms: true
Has Colormap: false
Has Multi Dimensions : true
Rendering Rule:
Min Scale: 0
Max Scale: 0
Resampling: false
Copyright Text:
Service Data Type: esriImageServiceDataTypeScientific
Min Values: 16.454999923706055
Max Values: 32.63800048828125
Mean Values: 26.622281561533065
Standard Deviation Values: 2.329287611674926
Object ID Field:
Fields:
None
Default Mosaic Method: Center
Allowed Mosaic Methods:
SortField:
SortValue: null
Mosaic Operator: First
Default Compression Quality: 75
Default Resampling Method: Bilinear
Max Record Count: null
Max Image Height: 4100
Max Image Width: 15000
Max Download Image Count: null
Max Mosaic Image Count: null
Allow Raster Function: true
Allow Copy: true
Allow Analysis: true
Allow Compute TiePoints: false
Supports Statistics: false
Supports Advanced Queries: false
Use StandardizedQueries: true
Raster Type Infos:
Name: Raster Dataset
Description: Supports all ArcGIS Raster Datasets
Help:
Has Raster Attribute Table: false
Edit Fields Info: null
Ownership Based AccessControl For Rasters: null
Child Resources:
Info
Histograms
Statistics
Key Properties
Legend
Raster Function Infos
Multidimensional Info
Slices
Supported Operations:
Export Image
Identify
Measure
Compute Histograms
Compute Statistics Histograms
Get Samples
Compute Class Statistics
Query Boundary
Compute Pixel Location
Compute Angles
Validate
Project