View In:
ArcGIS JavaScript
ArcGIS Online Map Viewer
ArcGIS Earth
Service Description: md/mdt50577puertolleras
Name: md/mdt50577puertolleras
Description:
Single Fused Map Cache: false
Extent:
XMin: 4930019.488686837
YMin: 1880717.1604986063
XMax: 5013806.988686837
YMax: 1944517.1604986063
Spatial Reference: 9377
(9377)
LatestVCSWkid(0)
Initial Extent:
XMin: 4930019.488686837
YMin: 1880717.1604986063
XMax: 5013806.988686837
YMax: 1944517.1604986063
Spatial Reference: 9377
(9377)
LatestVCSWkid(0)
Full Extent:
XMin: 4930019.488686837
YMin: 1880717.1604986063
XMax: 5013806.988686837
YMax: 1944517.1604986063
Spatial Reference: 9377
(9377)
LatestVCSWkid(0)
Pixel Size X: 12.5
Pixel Size Y: 12.5
Band Count: 3
Pixel Type: U8
RasterFunction Infos: {"rasterFunctionInfos": [
{
"name": "None",
"description": "Make a Raster or Raster Dataset into a Function Raster Dataset.",
"help": ""
},
{
"name": "Clip",
"description": "Sets the extent of a raster using coordinates or another dataset.",
"help": ""
},
{
"name": "Contour",
"description": "Creates contour lines.",
"help": ""
},
{
"name": "Elevation Void Fill",
"description": "Creates pixels where holes exist in your elevation data.",
"help": ""
},
{
"name": "Hillshade",
"description": "Creates a 3D representation of the surface, with the sun's relative position taken into account for shading the image.",
"help": ""
},
{
"name": "Reproject",
"description": "Modifies the projection of a raster dataset, mosaic dataset, or raster item in a mosaic dataset. It can also resample the data to a new cell size and define an origin.",
"help": ""
}
]}
Mensuration Capabilities: None
Inspection Capabilities:
Has Histograms: true
Has Colormap: false
Has Multi Dimensions : false
Rendering Rule:
Min Scale: 0
Max Scale: 0
Resampling: false
Copyright Text:
Service Data Type: esriImageServiceDataTypeRGB
Min Values: 0, 0, 0
Max Values: 241, 233, 0
Mean Values: 163.09063543348253, 167.79001003410232, 0
Standard Deviation Values: 23.615514102388786, 25.284398626357753, 0
Object ID Field: objectid
Fields:
-
objectid
(
type: esriFieldTypeOID, alias: OBJECTID
)
-
name
(
type: esriFieldTypeString, alias: Name, length: 200
)
-
minps
(
type: esriFieldTypeDouble, alias: MinPS
)
-
maxps
(
type: esriFieldTypeDouble, alias: MaxPS
)
-
lowps
(
type: esriFieldTypeDouble, alias: LowPS
)
-
highps
(
type: esriFieldTypeDouble, alias: HighPS
)
-
category
(
type: esriFieldTypeInteger, alias: Category
, Coded Values:
[0: Unknown]
, [1: Primary]
, [2: Overview]
, ...6 more...
)
-
tag
(
type: esriFieldTypeString, alias: Tag, length: 100
)
-
groupname
(
type: esriFieldTypeString, alias: GroupName, length: 100
)
-
productname
(
type: esriFieldTypeString, alias: ProductName, length: 100
)
-
centerx
(
type: esriFieldTypeDouble, alias: CenterX
)
-
centery
(
type: esriFieldTypeDouble, alias: CenterY
)
-
zorder
(
type: esriFieldTypeInteger, alias: ZOrder
)
-
shape
(
type: esriFieldTypeGeometry, alias: Shape
)
Default Mosaic Method: Northwest
Allowed Mosaic Methods: NorthWest,Center,LockRaster,ByAttribute,Nadir,Viewpoint,Seamline,None
SortField:
SortValue: null
Mosaic Operator: First
Default Compression Quality: 75
Default Resampling Method: Bilinear
Max Record Count: 1000
Max Image Height: 5104
Max Image Width: 6703
Max Download Image Count: 20
Max Mosaic Image Count: 20
Allow Raster Function: true
Allow Copy: true
Allow Analysis: true
Allow Compute TiePoints: false
Supports Statistics: true
Supports Advanced Queries: true
Use StandardizedQueries: true
Raster Type Infos:
Name: Raster Dataset
Description: Supports all ArcGIS Raster Datasets
Help:
Has Raster Attribute Table: false
Edit Fields Info: null
Ownership Based AccessControl For Rasters: null
Child Resources:
Info
Histograms
Statistics
Key Properties
Legend
Raster Function Infos
Supported Operations:
Export Image
Query
Identify
Download Rasters
Get Image Url
Compute Histograms
Compute Statistics Histograms
Get Samples
Compute Class Statistics
Query GPS Info
Find Images
Image to Map
Map to Image
Measure from Image
Image to Map Multiray
Query Boundary
Compute Pixel Location
Compute Angles
Validate
Project