View In:
ArcGIS JavaScript
ArcGIS Online Map Viewer
ArcGIS Earth
Service Description: orto/orto05237donmatias
Name: orto/orto05237donmatias
Description:
Single Fused Map Cache: false
Extent:
XMin: 4724335.75190361
YMin: 2269156.287790118
XMax: 4755865.75190361
YMax: 2285102.787790118
Spatial Reference: 9377
(9377)
LatestVCSWkid(0)
Initial Extent:
XMin: 4724335.75190361
YMin: 2269156.287790118
XMax: 4755865.75190361
YMax: 2285102.787790118
Spatial Reference: 9377
(9377)
LatestVCSWkid(0)
Full Extent:
XMin: 4724335.75190361
YMin: 2269156.287790118
XMax: 4755865.75190361
YMax: 2285102.787790118
Spatial Reference: 9377
(9377)
LatestVCSWkid(0)
Pixel Size X: 0.5
Pixel Size Y: 0.5
Band Count: 4
Pixel Type: U8
RasterFunction Infos: {"rasterFunctionInfos": [{
"name": "None",
"description": "Make a Raster or Raster Dataset into a Function Raster Dataset.",
"help": ""
}]}
Mensuration Capabilities: None
Inspection Capabilities:
Has Histograms: true
Has Colormap: false
Has Multi Dimensions : false
Rendering Rule:
Min Scale: 0
Max Scale: 0
Resampling: false
Copyright Text:
Service Data Type: esriImageServiceDataTypeGeneric
Min Values: 0, 0, 0, 0
Max Values: 226, 224, 234, 175
Mean Values: 70.60913715486912, 83.78858562851522, 74.45926469655976, 82.55302856641089
Standard Deviation Values: 26.511329533906334, 21.662953796988802, 14.975225341980977, 24.103252761937988
Object ID Field: objectid
Fields:
-
objectid
(
type: esriFieldTypeOID, alias: OBJECTID
)
-
name
(
type: esriFieldTypeString, alias: Name, length: 200
)
-
minps
(
type: esriFieldTypeDouble, alias: MinPS
)
-
maxps
(
type: esriFieldTypeDouble, alias: MaxPS
)
-
lowps
(
type: esriFieldTypeDouble, alias: LowPS
)
-
highps
(
type: esriFieldTypeDouble, alias: HighPS
)
-
category
(
type: esriFieldTypeInteger, alias: Category
, Coded Values:
[0: Unknown]
, [1: Primary]
, [2: Overview]
, ...6 more...
)
-
tag
(
type: esriFieldTypeString, alias: Tag, length: 100
)
-
groupname
(
type: esriFieldTypeString, alias: GroupName, length: 100
)
-
productname
(
type: esriFieldTypeString, alias: ProductName, length: 100
)
-
centerx
(
type: esriFieldTypeDouble, alias: CenterX
)
-
centery
(
type: esriFieldTypeDouble, alias: CenterY
)
-
zorder
(
type: esriFieldTypeInteger, alias: ZOrder
)
-
shape
(
type: esriFieldTypeGeometry, alias: Shape
)
Default Mosaic Method: Northwest
Allowed Mosaic Methods: NorthWest,Center,LockRaster,ByAttribute,Nadir,Viewpoint,Seamline,None
SortField:
SortValue: null
Mosaic Operator: First
Default Compression Quality: 75
Default Resampling Method: Bilinear
Max Record Count: 1000
Max Image Height: 31893
Max Image Width: 63095
Max Download Image Count: 20
Max Mosaic Image Count: 20
Allow Raster Function: true
Allow Copy: true
Allow Analysis: true
Allow Compute TiePoints: false
Supports Statistics: true
Supports Advanced Queries: true
Use StandardizedQueries: true
Raster Type Infos:
Name: Raster Dataset
Description: Supports all ArcGIS Raster Datasets
Help:
Has Raster Attribute Table: false
Edit Fields Info: null
Ownership Based AccessControl For Rasters: null
Child Resources:
Info
Histograms
Statistics
Key Properties
Legend
Raster Function Infos
Supported Operations:
Export Image
Query
Identify
Download Rasters
Get Image Url
Compute Histograms
Compute Statistics Histograms
Get Samples
Compute Class Statistics
Query GPS Info
Find Images
Image to Map
Map to Image
Measure from Image
Image to Map Multiray
Query Boundary
Compute Pixel Location
Compute Angles
Validate
Project