View In:
ArcGIS JavaScript
ArcGIS Online Map Viewer
ArcGIS Earth
Service Description: pruebas/composite
Name: pruebas/composite
Description:
Single Fused Map Cache: false
Extent:
XMin: 757530.0
YMin: 1202388.0
XMax: 772716.0
YMax: 1225413.0
Spatial Reference: 32618
(32618)
LatestVCSWkid(0)
Initial Extent:
XMin: 757530.0
YMin: 1202388.0
XMax: 772716.0
YMax: 1225413.0
Spatial Reference: 32618
(32618)
LatestVCSWkid(0)
Full Extent:
XMin: 757530.0
YMin: 1202388.0
XMax: 772716.0
YMax: 1225413.0
Spatial Reference: 32618
(32618)
LatestVCSWkid(0)
Pixel Size X: 3.0
Pixel Size Y: 3.0
Band Count: 8
Pixel Type: U16
RasterFunction Infos: {"rasterFunctionInfos": [{
"name": "None",
"description": "",
"help": ""
}]}
Mensuration Capabilities: Basic
Inspection Capabilities:
Has Histograms: true
Has Colormap: false
Has Multi Dimensions : false
Rendering Rule:
Min Scale: 0
Max Scale: 0
Copyright Text:
Service Data Type: esriImageServiceDataTypeGeneric
Min Values: 3509, 2872, 2066, 1646, 948, 705, 150, 949
Max Values: 23883, 25014, 23634, 23578, 22473, 20899, 19853, 17145
Mean Values: 5133.3997694628, 3941.1370807128, 3470.5945162138, 3137.0619845762, 2279.8515623623, 1548.4074239517, 2745.5838191222, 7519.2457735799
Standard Deviation Values: 759.79654024403, 847.38182610367, 845.76191267129, 856.52209471871, 835.7735108913, 774.39979846714, 813.92038013533, 1644.5764602775
Object ID Field:
Fields:
None
Default Mosaic Method: Center
Allowed Mosaic Methods:
SortField:
SortValue: null
Mosaic Operator: First
Default Compression Quality: 75
Default Resampling Method: Bilinear
Max Record Count: null
Max Image Height: 4100
Max Image Width: 15000
Max Download Image Count: null
Max Mosaic Image Count: null
Allow Raster Function: true
Allow Copy: true
Allow Analysis: true
Allow Compute TiePoints: false
Supports Statistics: false
Supports Advanced Queries: false
Use StandardizedQueries: true
Raster Type Infos:
Name: Raster Dataset
Description: Supports all ArcGIS Raster Datasets
Help:
Has Raster Attribute Table: false
Edit Fields Info: null
Ownership Based AccessControl For Rasters: null
Child Resources:
Info
Histograms
Statistics
Key Properties
Legend
Raster Function Infos
Supported Operations:
Export Image
Identify
Measure
Compute Histograms
Compute Statistics Histograms
Get Samples
Compute Class Statistics
Query Boundary
Compute Pixel Location
Compute Angles
Validate
Project