View In:
ArcGIS JavaScript
ArcGIS Online Map Viewer
ArcGIS Earth
Service Description: Extract_COL_1
Name: Extract_COL_1
Description:
Single Fused Map Cache: false
Extent:
XMin: -81.775000001
YMin: -4.241665956999999
XMax: -66.8000006
YMax: 13.49999999999999
Spatial Reference: 0
(0)
LatestVCSWkid(0)
Initial Extent:
XMin: -81.775000001
YMin: -4.241665956999999
XMax: -66.8000006
YMax: 13.49999999999999
Spatial Reference: 0
(0)
LatestVCSWkid(0)
Full Extent:
XMin: -81.775000001
YMin: -4.241665956999999
XMax: -66.8000006
YMax: 13.49999999999999
Spatial Reference: 0
(0)
LatestVCSWkid(0)
Pixel Size X: 0.008333332999999995
Pixel Size Y: 0.008333332999999995
Band Count: 1
Pixel Type: S16
RasterFunction Infos: {"rasterFunctionInfos": [{
"name": "None",
"description": "",
"help": ""
}]}
Mensuration Capabilities: Basic
Inspection Capabilities:
Has Histograms: true
Has Colormap: false
Has Multi Dimensions : false
Rendering Rule:
Min Scale: 0
Max Scale: 0
Copyright Text:
Service Data Type: esriImageServiceDataTypeGeneric
Min Values: -28
Max Values: 5453
Mean Values: 559.6331601874167
Standard Deviation Values: 824.7432237946344
Object ID Field:
Fields:
None
Default Mosaic Method: Center
Allowed Mosaic Methods:
SortField:
SortValue: null
Mosaic Operator: First
Default Compression Quality: 75
Default Resampling Method: Bilinear
Max Record Count: null
Max Image Height: 4100
Max Image Width: 15000
Max Download Image Count: null
Max Mosaic Image Count: null
Allow Raster Function: true
Allow Copy: true
Allow Analysis: true
Allow Compute TiePoints: false
Supports Statistics: false
Supports Advanced Queries: false
Use StandardizedQueries: true
Raster Type Infos:
Name: Raster Dataset
Description: Supports all ArcGIS Raster Datasets
Help:
Has Raster Attribute Table: true
Edit Fields Info: null
Ownership Based AccessControl For Rasters: null
Child Resources:
Info
Raster Attribute Table
Histograms
Statistics
Key Properties
Legend
Raster Function Infos
Supported Operations:
Export Image
Identify
Measure
Compute Histograms
Compute Statistics Histograms
Get Samples
Compute Class Statistics
Query Boundary
Compute Pixel Location
Compute Angles
Validate
Project